Workbook
Name affichage: INDIRECT(VLOOKUP('[1]Grille d''analyse MRCNY'!$D$76,#REF!,2,0))
Name affichage: INDIRECT(VLOOKUP('[1]Grille d''analyse MRCNY'!$D$76,#REF!,2,0))
Name affichage: INDIRECT(VLOOKUP('[1]Grille d''analyse MRCNY'!$D$76,#REF!,2,0))
Name autorisation: INDIRECT(VLOOKUP('[1]Autorisation de versement'!$H$18,#REF!,2,0))
Name autorisation: INDIRECT(VLOOKUP('[1]Autorisation de versement'!$H$18,#REF!,2,0))
Name autorisation: INDIRECT(VLOOKUP('[1]Autorisation de versement'!$H$18,#REF!,2,0))
Name autorisationfinale: INDIRECT(VLOOKUP('[1]Autorisation de versement FINAL'!$E$11,#REF!,2,0))
Name autorisationfinale: INDIRECT(VLOOKUP('[1]Autorisation de versement FINAL'!$E$11,#REF!,2,0))
Name autorisationfinale: INDIRECT(VLOOKUP('[1]Autorisation de versement FINAL'!$E$11,#REF!,2,0))

Sheet Formulaire de demande 
D1: À l’usage de l’administration | E1: Programme:
E2: Numéro de dossier: | H2: Date réception:
D3: IDENTIFICATION :
D4: Nom de la municipalité ou du promoteur
D6: Adresse postal | G6: Municipalité (menu déroulant) | I6: Code postal
D8: Téléphone principal | E8: Cellulaire | F8: Courriel
D10: Prénom et nom du signataire autorisé | H10: Titre ou fonction
D13: DEMANDE AU FRR
D14: Titre du projet présenté
D16: Coût total du projet | E16: Montant demandé (max 90% des dépenses admissibles) | G16: Date de début (aaaa-mm-jj) | I16: Date de fin
D17: =H86 -> 0 | E17: =H84 -> 0
D19: DESCRIPTION DU PROJET :
D20: Présentez les grandes lignes de votre projet en expliquant de quoi il s’agit (au besoin, veuillez ajouter une annexe).
D22: Décrivez l’échéancier de réalisation du projet (dates de début et de fin, les principales étapes et, le cas échéant, les demandes de permis ou autorisations requises) (au besoin, veuillez ajouter une annexe).
D24: Identifiez les partenaires impliqués dans votre projet et précisez la nature de leur implication (financière, ressources humaines, équipement, etc.) (au besoin, veuillez ajouter une annexe).
D26: Expliquez brièvement en quoi le projet contribue à la revitalisation de votre municipalité (au besoin, veuillez ajouter une annexe).
D29: RENSEIGNEMENT SUR LE PROJET
D30: Clientèle(s) visée(s)
D34: Dans quel(s) domaine(s) d’intervention s’inscrit votre projet (vous pouvez cocher plus d’une case) ?
D40: COÛT ET FINANCEMENT DU PROJET :
D41: DÉPENSES | H41: $ PRÉVUS | I41: %
I42: =IFERROR(H42/H$68, "")
I43: =IFERROR(H43/H$68, "")
I44: =IFERROR(H44/H$68, "")
I45: =IFERROR(H45/H$68, "")
I46: =IFERROR(H46/H$68, "")
I47: =IFERROR(H47/H$68, "")
I48: =IFERROR(H48/H$68, "")
I49: =IFERROR(H49/H$68, "")
I50: =IFERROR(H50/H$68, "")
I51: =IFERROR(H51/H$68, "")
I52: =IFERROR(H52/H$68, "")
I53: =IFERROR(H53/H$68, "")
... I67: =IFERROR(H67/H$68, "")
D68: DÉPENSES TOTALES | H68: =SUM(H42:H67) -> 0 | I68: =IFERROR(H68/$H$68, "")
D69: SOURCES DE FINANCEMENT | H69: $ PRÉVUS | I69: %
D70: Mise de fonds de la municipalité
D71: Commandites
D72: Autre(s) à préciser | H72: 0
D77: Sous-Total | H77: =SUM(H70:H76) -> 0 | I77: =IFERROR(H77/$H$86, "")
...

Sheet Calcul réel
A2: Résumé des dépenses admissibles au FRR
A5: Dépenses liées au projet : | C5: ='Formulaire de demande '!D15 -> 0 | G5: 0.05 | H5: 0.09975
A6: Fournisseur | B6: Description | C6: No Facture | D6: Date | E6: Montant | F6: Taxable ? | G6: TPS | H6: TVQ | I6: Total payé | J6: 50 % TVQ | K6: Total admissible
G7: =IF(F7="X",ROUND(E7*$G$5,2),0) -> 0 | H7: =IF(G7>0,ROUND(E7*$H$5,2),0) -> 0 | I7: =E7+G7+H7 -> 0 | J7: =ROUND(0.5*H7,2) -> 0 | K7: =E7+J7 -> 0
G8: =IF(F8="X",ROUND(E8*$G$5,2),0) -> 0 | H8: =IF(G8>0,ROUND(E8*$H$5,2),0) -> 0 | I8: =E8+G8+H8 -> 0 | J8: =ROUND(0.5*H8,2) -> 0 | K8: =E8+J8 -> 0
G9: =IF(F9="X",ROUND(E9*$G$5,2),0) -> 0 | H9: =IF(G9>0,ROUND(E9*$H$5,2),0) -> 0 | I9: =E9+G9+H9 -> 0 | J9: =ROUND(0.5*H9,2) -> 0 | K9: =E9+J9 -> 0
G10: =IF(F10="X",ROUND(E10*$G$5,2),0) -> 0 | H10: =IF(G10>0,ROUND(E10*$H$5,2),0) -> 0 | I10: =E10+G10+H10 -> 0 | J10: =ROUND(0.5*H10,2) -> 0 | K10: =E10+J10 -> 0
G11: =IF(F11="X",ROUND(E11*$G$5,2),0) -> 0 | H11: =IF(G11>0,ROUND(E11*$H$5,2),0) -> 0 | I11: =E11+G11+H11 -> 0 | J11: =ROUND(0.5*H11,2) -> 0 | K11: =E11+J11 -> 0
G12: =IF(F12="X",ROUND(E12*$G$5,2),0) -> 0 | H12: =IF(G12>0,ROUND(E12*$H$5,2),0) -> 0 | I12: =E12+G12+H12 -> 0 | J12: =ROUND(0.5*H12,2) -> 0 | K12: =E12+J12 -> 0
G13: =IF(F13="X",ROUND(E13*$G$5,2),0) -> 0 | H13: =IF(G13>0,ROUND(E13*$H$5,2),0) -> 0 | I13: =E13+G13+H13 -> 0 | J13: =ROUND(0.5*H13,2) -> 0 | K13: =E13+J13 -> 0
G14: =IF(F14="X",ROUND(E14*$G$5,2),0) -> 0 | H14: =IF(G14>0,ROUND(E14*$H$5,2),0) -> 0 | I14: =E14+G14+H14 -> 0 | J14: =ROUND(0.5*H14,2) -> 0 | K14: =E14+J14 -> 0
G15: =IF(F15="X",ROUND(E15*$G$5,2),0) -> 0 | H15: =IF(G15>0,ROUND(E15*$H$5,2),0) -> 0 | I15: =E15+G15+H15 -> 0 | J15: =ROUND(0.5*H15,2) -> 0 | K15: =E15+J15 -> 0
G16: =IF(F16="X",ROUND(E16*$G$5,2),0) -> 0 | H16: =IF(G16>0,ROUND(E16*$H$5,2),0) -> 0 | I16: =E16+G16+H16 -> 0 | J16: =ROUND(0.5*H16,2) -> 0 | K16: =E16+J16 -> 0
G17: =IF(F17="X",ROUND(E17*$G$5,2),0) -> 0 | H17: =IF(G17>0,ROUND(E17*$H$5,2),0) -> 0 | I17: =E17+G17+H17 -> 0 | J17: =ROUND(0.5*H17,2) -> 0 | K17: =E17+J17 -> 0
G18: =IF(F18="X",ROUND(E18*$G$5,2),0) -> 0 | H18: =IF(G18>0,ROUND(E18*$H$5,2),0) -> 0 | I18: =E18+G18+H18 -> 0 | J18: =ROUND(0.5*H18,2) -> 0 | K18: =E18+J18 -> 0
... G108: =IF(F108="X",ROUND(E108*$G$5,2),0) -> 0 | H108: =IF(G108>0,ROUND(E108*$H$5,2),0) -> 0 | I108: =E108+G108+H108 -> 0 | J108: =ROUND(0.5*H108,2) -> 0 | K108: =E108+J108 -> 0
A111: Total des dépenses engagées | E111: =SUM(E7:E110) -> 0 | G111: =SUM(G7:G110) -> 0 | H111: =SUM(H7:H110) -> 0 | I111: =SUM(I7:I110) -> 0 | J111: =SUM(J7:J110) -> 0 | K111: =SUM(K7:K110) -> 0
A113: Total des dépenses prévues au projet | K113: ='Formulaire de demande '!H68 -> 0
A114: Aide financière prévue | K114: ='Formulaire de demande '!H86 -> 0
A115: Pourcentage de réalisation du projet | K115: =IFERROR(K111/K113, "")
A117: Aide financière calculée | C117: selon le % de réalisation du projet réel/prévu | K117: =IFERROR(K114*K115, "") | M117: À L'USAGE DE L'ADMINISTRATION
A118: Aide financière calculée | C118: selon les dépenses réelles engagées | F118: =Bilan!I50 | K118: =IFERROR(K111*F118, "")
A120: Aide financière retenue * | K120: ='Formulaire de demande '!H85 -> 0
A121: Premier versement effectué | F121: 0.8 | K121: =F121*K120 -> 0
A122: À verser (à récupérer) | K122: =IFERROR(K118-K121, "")

Sheet Bilan
D1: En signant le protocole d’entente confirmant le versement d’une aide financière du FDST dans Nicolet-Yamaska, votre organisme s’est engagé notamment à : • Réaliser les activités prévues dans la demande acceptée; • Fournir à la MRC un avis préalable à toute modification importante qui serait apportée au projet. • Produire à la MRC les rapports d’étapes requis; • Déposer à la MRC un bilan final accompagné de pièces justificatives.
D3: IDENTIFICATION :
D4: Nom de la municipalité
D5: ='Formulaire de demande '!D5:J5 -> 0
D6: Adresse postal | G6: Municipalité | I6: Code postal
D7: ='Formulaire de demande '!D7:F7 -> 0 | G7: ='Formulaire de demande '!G7:H7 -> 0 | I7: ='Formulaire de demande '!I7:J7 -> 0
D8: Téléphone principal | E8: Cellulaire | F8: Courriel
D9: ='Formulaire de demande '!D9 -> 0 | E9: ='Formulaire de demande '!E9 -> 0 | F9: ='Formulaire de demande '!F9:J9 -> 0
D10: Prénom et nom du signataire autorisé | H10: Titre ou fonction
D11: ='Formulaire de demande '!D11:G11 -> 0 | H11: ='Formulaire de demande '!H11:J11 -> 0
D13: ÉTAT DE LA DEMANDE AU FRR
D14: Titre du projet présenté
D15: ='Formulaire de demande '!D15:J15 -> 0
D16: Terminé depuis le (aaaa-mm-jj) | I16: Abandonné
D19: DESCRIPTION DU PROJET TEL QUE RÉALISÉ (JOINDRE DES PHOTOS) Au besoin, ajouter une annexe.
D22: EXPLICATION DES RETARDS OU DES MODIFICATIONS (LE CAS ÉCHÉANT) Au besoin, ajouter une annexe.
D26: INFORMATIONS SUPPLÉMENTAIRES OU COMMENTAIRES (S'IL Y A LIEU) Au besoin, ajouter une annexe.
D29: COÛT ET FINANCEMENT DU PROJET :
D30: DÉPENSES | H30: $ ACTUEL | I30: %
D31: Voir onglet Calcul réel | H31: ='Calcul réel'!K111 -> 0 | I31: =IFERROR(H31/$H$32, "")
D32: DÉPENSES TOTALES | H32: =SUM(H31:H31) -> 0 | I32: =IFERROR(H32/$H$32, "")
D33: SOURCES DE FINANCEMENT | H33: $ RÉEL | I33: %
D34: Mise de fonds de la municipalité | I34: =IFERROR(H34/$H$42,"")
I35: =IFERROR(H35/$H$42,"")
D36: Commandites | I36: =IFERROR(H36/$H$42,"")
D37: Autre(s) à préciser | I37: =IFERROR(H37/$H$42,"")
I38: =IFERROR(H38/$H$42,"")
I39: =IFERROR(H39/$H$42,"")
I40: =IFERROR(H40/$H$42,"")
I41: =IFERROR(H41/$H$42,"")
D42: Sous-Total | H42: =SUM(H34:H41) -> 0 | I42: =IFERROR(H42/$H$51, "")
D43: Aides gouvernementales (précisez)
I44: =IFERROR(H44/$H$47,"")
I45: =IFERROR(H45/$H$47,"")
I46: =IFERROR(H46/$H$47,"")
D47: Sous-Total | H47: =SUM(H44:H46) -> 0 | I47: =IFERROR(H47/$H$51, "")
D48: Fonds Région et Ruralité
D49: Demande au FRR (max. 90%) | H49: ='Formulaire de demande '!H84 -> 0
D50: Sous-Total | H50: =SUM(H49) -> 0 | I50: =IFERROR(H50/$H$51,"")
D51: TOTAL | H51: =H42+H47+H50 -> 0
...

Sheet Données
A1: Municipalité d'Aston-Jonction | F1: Aston-Jonction | J1: MO NS
A2: Municipalité de Baie-du-Febvre | F2: Baie-du-Febvre | J2: MO S
A3: Municipalité du Grand-Saint-Esprit | F3: Grand-Saint-Esprit | J3: MO P
A4: Municipalité de La Visitation-de-Yamaska | F4: La Visitation-de-Yamaska
A5: Ville de Nicolet | F5: Nicolet
A6: Municipalité de Pierreville | F6: Pierreville
A7: Municipalité de Saint-Célestin (Paroisse) | F7: Saint-Célestin (Paroisse)
A8: Municipalité de Saint-Célestin (Village) | F8: Saint-Célestin (Village)
A9: Municipalité de Saint-Elphège | F9: Saint-Elphège
A10: Municipalité de Sainte-Eulalie | F10: Sainte-Eulalie
A11: Municipalité de Saint-François-du-Lac | F11: Saint-François-du-Lac
A12: Municipalité de Saint-Léonard-d'Aston | F12: Saint-Léonard-d'Aston
A13: Municipalité de Sainte-Monique | F13: Sainte-Monique
A14: Municipalité de Sainte-Perpétue | F14: Sainte-Perpétue
A15: Municipalité de Saint-Wenceslas | F15: Saint-Wenceslas
A16: Municipalité de Saint-Zéphirin-de-Courval | F16: Saint-Zéphirin-de-Courval
